BEGIN:VCALENDAR
VERSION:2.0
PRODID:-//Lab2Doctors - ECPv6.15.20//NONSGML v1.0//EN
CALSCALE:GREGORIAN
METHOD:PUBLISH
X-ORIGINAL-URL:https://lab2doctors.com
X-WR-CALDESC:Events for Lab2Doctors
REFRESH-INTERVAL;VALUE=DURATION:PT1H
X-Robots-Tag:noindex
X-PUBLISHED-TTL:PT1H
BEGIN:VTIMEZONE
TZID:America/New_York
BEGIN:DAYLIGHT
TZOFFSETFROM:-0500
TZOFFSETTO:-0400
TZNAME:EDT
DTSTART:20250309T070000
END:DAYLIGHT
BEGIN:STANDARD
TZOFFSETFROM:-0400
TZOFFSETTO:-0500
TZNAME:EST
DTSTART:20251102T060000
END:STANDARD
BEGIN:DAYLIGHT
TZOFFSETFROM:-0500
TZOFFSETTO:-0400
TZNAME:EDT
DTSTART:20260308T070000
END:DAYLIGHT
BEGIN:STANDARD
TZOFFSETFROM:-0400
TZOFFSETTO:-0500
TZNAME:EST
DTSTART:20261101T060000
END:STANDARD
BEGIN:DAYLIGHT
TZOFFSETFROM:-0500
TZOFFSETTO:-0400
TZNAME:EDT
DTSTART:20270314T070000
END:DAYLIGHT
BEGIN:STANDARD
TZOFFSETFROM:-0400
TZOFFSETTO:-0500
TZNAME:EST
DTSTART:20271107T060000
END:STANDARD
END:VTIMEZONE
BEGIN:VEVENT
DTSTART;TZID=America/New_York:20260427T120000
DTEND;TZID=America/New_York:20260427T130000
DTSTAMP:20260424T114226
CREATED:20260326T120029Z
LAST-MODIFIED:20260422T140531Z
UID:4884-1777291200-1777294800@lab2doctors.com
SUMMARY:The Hidden Story Behind Every Test
DESCRIPTION:The session aims to equip clinicians and laboratory professionals with the ability to interpret results more critically\, identify potential sources of error\, and make more confident\, evidence-informed decisions
URL:https://lab2doctors.com/event/the-hidden-story-behind-every-test/
LOCATION:Zoom
CATEGORIES:Upcoming Events
ATTACH;FMTTYPE=image/jpeg:https://lab2doctors.com/wp-content/uploads/2026/03/Blood-Test.jpg
END:VEVENT
BEGIN:VEVENT
DTSTART;TZID=America/New_York:20260523T120000
DTEND;TZID=America/New_York:20260523T130000
DTSTAMP:20260424T114226
CREATED:20260421T143328Z
LAST-MODIFIED:20260424T100524Z
UID:7735-1779537600-1779541200@lab2doctors.com
SUMMARY:Advanced Lipid Profiling
DESCRIPTION:This session is designed to help healthcare professionals understand when traditional lipid results are sufficient and when a more detailed approach is needed.
URL:https://lab2doctors.com/event/advanced-lipid-profiling/
LOCATION:Zoom
CATEGORIES:Upcoming Events
ATTACH;FMTTYPE=image/jpeg:https://lab2doctors.com/wp-content/uploads/2026/04/Lab-sample-on-a-staffs-hand.jpg
END:VEVENT
BEGIN:VEVENT
DTSTART;TZID=America/New_York:20260629T120000
DTEND;TZID=America/New_York:20260629T130000
DTSTAMP:20260424T114226
CREATED:20260424T100145Z
LAST-MODIFIED:20260424T100145Z
UID:8345-1782734400-1782738000@lab2doctors.com
SUMMARY:Things the Lab Wishes Clinicians Knew
DESCRIPTION:This session is designed to help healthcare professionals understand when traditional lipid results are sufficient and when a more detailed approach is needed.
URL:https://lab2doctors.com/event/things-the-lab-wishes-clinicians-knew/
LOCATION:Zoom
CATEGORIES:Upcoming Events
ATTACH;FMTTYPE=image/jpeg:https://lab2doctors.com/wp-content/uploads/2026/04/f41f1a6781aaf45b2cc509b470e43542d483e87b-scaled.jpg
END:VEVENT
END:VCALENDAR